BEGIN:VCALENDAR
VERSION:2.0
PRODID:-//eventon.com NONSGML v1.0//EN
CALSCALE:GREGORIAN
METHOD:PUBLISH
BEGIN:VEVENT
UID:69e9047038c59
DTSTAMP:20260422T172504Z
DTSTART:20201011T183000Z
DTEND:20201012T000000Z
LOCATION:Historic Hanna's Town 809 Forbes Trail Rd\,  Greensburg\,  PA 15601
SUMMARY:Antiques and Collectibles Market
DESCRIPTION:Antiques &amp; Collectibles Market\,  a community tradition sin
 ce 1974\,  provides excellent buying and selling opportunities for lovers o
 f antiques and anyone seeking vintage items. Browse for bargains\,  enjoy a
  variety of food booths\,  and support local history preservation. Proceeds
  from this event have been vital for the re-creation of Historic[..]\nhttps
 ://westmorelandhistory.org/events/antiques-and-collectibles-market/
URL:https://westmorelandhistory.org/events/antiques-and-collectibles-market/
END:VEVENT
END:VCALENDAR