BEGIN:VCALENDAR
VERSION:2.0
PRODID:-//eventon.com NONSGML v1.0//EN
CALSCALE:GREGORIAN
METHOD:PUBLISH
BEGIN:VEVENT
UID:69eaba4f82a4d
DTSTAMP:20260424T003319Z
DTSTART:20201129T233000Z
DTEND:20201130T033000Z
LOCATION:Westmoreland History Education Center 809 Forbes Trail Rd\,  Greensburg\,  PA 15601
SUMMARY:Museum Store Sunday
DESCRIPTION:The Westmoreland History Shop will be offering 20% off items fo
 r Museum Store Sunday. When you purchase a gift from a museum store\,  you 
 help to sustain the museum’s service to its community and the public. The
  Westmoreland History Shop will be one of 1\, 400 museums around the world 
 offering[..]\nhttps://westmorelandhistory.org/events/museum-store-sunday/
URL:https://westmorelandhistory.org/events/museum-store-sunday/
END:VEVENT
END:VCALENDAR