BEGIN:VCALENDAR
VERSION:2.0
PRODID:-//eventon.com NONSGML v1.0//EN
CALSCALE:GREGORIAN
METHOD:PUBLISH
BEGIN:VEVENT
UID:69e815574b659
DTSTAMP:20260422T002455Z
DTSTART:20230415T213000Z
DTEND:20230416T033000Z
LOCATION:Westmoreland History Education Center 809 Forbes Trail Rd\,  Greensburg\,  PA 15601
SUMMARY:Westmoreland 250! Exhibit Opening
DESCRIPTION:Westmoreland 250! Celebrating our Story with 25 Objects Our new
  Westmoreland 250 exhibit will be open to view starting on Friday\,  April 
 14! The Grand Opening of the exhibit will take place on Saturday\,  April 1
 5\,  with light refreshments provided. Come and join us to celebrate the 25
 0th Anniversary of[..]\nhttps://westmorelandhistory.org/events/exhibit-open
 ing-westmoreland-250-celebrating-our-story-with-25-objects/
URL:https://westmorelandhistory.org/events/exhibit-opening-westmoreland-250-celebrating-our-story-with-25-objects/
END:VEVENT
END:VCALENDAR