BEGIN:VCALENDAR
VERSION:2.0
PRODID:-//eventon.com NONSGML v1.0//EN
CALSCALE:GREGORIAN
METHOD:PUBLISH
BEGIN:VEVENT
UID:69e5d5786cee9
DTSTAMP:20260420T072752Z
DTSTART:20250201T180000Z
DTEND:20250201T190000Z
LOCATION:Westmoreland History Education Center 809 Forbes Trail Rd\,  Greensburg\,  PA 15601
SUMMARY:Black History Month Program: The 65th Anniversary of the Sit-In Movement.
DESCRIPTION:On Saturday\,  February 1st\,  Dr. Kelton Edmonds will launch t
 he Westmoreland Historical Society’s celebration of Black History Month w
 ith a presentation on the 1960 Sit-in Movement. February 1\,  2025\,  marks
  the 65th anniversary of the launch of the historic Sit-in Movement\,  by f
 our African American freshmen from North Carolina Architectural[..]\nhttps:
 //westmorelandhistory.org/events/black-history-month-the-65th-anniversary-o
 f-the-sit-in-movement/
URL:https://westmorelandhistory.org/events/black-history-month-the-65th-anniversary-of-the-sit-in-movement/
END:VEVENT
END:VCALENDAR