BEGIN:VCALENDAR
VERSION:2.0
PRODID:-//eventon.com NONSGML v1.0//EN
CALSCALE:GREGORIAN
METHOD:PUBLISH
BEGIN:VEVENT
UID:69eadece544a4
DTSTAMP:20260424T030902Z
DTSTART:20250517T150000Z
DTEND:20250517T190000Z
LOCATION:Historic Hanna's Town 809 Forbes Trail Rd\,  Greensburg\,  PA 15601
SUMMARY:The Hanna's Town Resolves 250 Event
DESCRIPTION:As we begin the commemoration of America’s 250th birthday\,  
 a special event will take place at Historic Hanna’s Town on Saturday May 
 17\,  2025\,  to honor the 250th anniversary of the Hanna’s Town Resolves
 \,  a bold precursor to the Declaration of Independence. News of the events
  at Lexington &amp; Concord[..]\nhttps://westmorelandhistory.org/events/the
 -hannas-town-resolve-250-event/
URL:https://westmorelandhistory.org/events/the-hannas-town-resolve-250-event/
END:VEVENT
END:VCALENDAR